BEGIN:VCALENDAR
VERSION:2.0
PRODID:-//pretix//pretix.eu//
BEGIN:VTIMEZONE
TZID:Europe/Berlin
BEGIN:STANDARD
DTSTART:20001029T040000
RRULE:FREQ=YEARLY;BYDAY=-1SU;BYMONTH=10
TZNAME:CET
TZOFFSETFROM:+0200
TZOFFSETTO:+0100
END:STANDARD
BEGIN:DAYLIGHT
DTSTART:20000326T030000
RRULE:FREQ=YEARLY;BYDAY=-1SU;BYMONTH=3
TZNAME:CEST
TZOFFSETFROM:+0100
TZOFFSETTO:+0200
END:DAYLIGHT
END:VTIMEZONE
BEGIN:VEVENT
UID:pretix-nr-scicar24-0@tickets.netzwerkrecherche.org
DTSTART;TZID=Europe/Berlin:20240927T100000
DTEND;TZID=Europe/Berlin:20240928T150000
DESCRIPTION:Tickets: https://tickets.netzwerkrecherche.org/scicar24/\nVeran
 stalter: Netzwerk Recherche e.V.
DTSTAMP:20260421T115219Z
LOCATION:Sparkassenakademie Nordrhein-Westfalen\, Hörder Burgplatz 1\, 442
 63 Dortmund\, Deutschland
SUMMARY:SciCAR 2024
END:VEVENT
END:VCALENDAR
